BEGIN:VCALENDAR
VERSION:2.0
PRODID:-//ChamberMaster//Event Calendar 2.0//EN
METHOD:PUBLISH
X-PUBLISHED-TTL:P1H
REFRESH-INTERVAL:P1H
CALSCALE:GREGORIAN
BEGIN:VTIMEZONE
TZID:America/Chicago
BEGIN:DAYLIGHT
RRULE:FREQ=YEARLY;BYMONTH=3;BYDAY=2SU
DTSTART:20070101T000000
TZOFFSETFROM:-0600
TZOFFSETTO:-0500
TZNAME:Central Daylight Time
END:DAYLIGHT
BEGIN:STANDARD
RRULE:FREQ=YEARLY;BYMONTH=11;BYDAY=1SU
DTSTART:20070101T000000
TZOFFSETFROM:-0500
TZOFFSETTO:-0600
TZNAME:Central Standard Time
END:STANDARD
END:VTIMEZONE
BEGIN:VEVENT
DTSTART;TZID=America/Chicago:20260516T183000
DTEND;TZID=America/Chicago:20260516T193000
X-MICROSOFT-CDO-ALLDAYEVENT:FALSE
SUMMARY:After-hours Concert: Jazz in Progress
DESCRIPTION:Jazz in Progress joins us for an after-hours concert that will feature different styles of big band and modern jazz music in the library's main lobby! Jazz in Progress (JIP) organized in 2012 to encourage local musicians to play jazz in support of its mission of musical\, charitable\, and educational purposes to advance the appreciation\, performance\, and history of jazz music and its related genres. Its membership includes a variety of talented musicians from the DeKalb County area. The ensemble also honors the practice of inviting local high school and college jazz musicians to sit in with the band\, giving young musicians an opportunity to gain more experience in playing jazz music. JIP is an official 501(c)(3) nonprofit organization that puts funds raised back into local community music programs. Past recipients of JIP donations include the DeKalb\, Genoa-Kingston\, Hinckley-Big Rock\, Indian Creek and Sycamore music booster organizations\, as well as St. Mary's-DeKalb and the DeKalb County Community Foundation. JIP has performed at benefit and fund raising events and venues around the area including the St. Mary's Lancer Legacy Ball\, Sycamore Natural History Museum's Rockin' for the Reptiles\, Stage Coach Theatre\, Sycamore Farmers Market\, Northwestern Medicine Kishwaukee Hospital\, Artigras\, The House Caf \, and Oak Crest Senior Proms. The band also has performed with the Celebration Chorale and at many other community and charity events. This concert is free and open to all. No registration is required. Doors will open at 6:00 p.m. and music will begin at 6:30 p.m.
X-ALT-DESC;FMTTYPE=text/html:<!DOCTYPE html><html><head><title></title></head><body aria-disabled="false"><p>Jazz in Progress joins us for an after-hours concert that will feature different styles of big band and modern jazz music in the library&rsquo\;s main lobby!&nbsp\;</p><p>Jazz in Progress (JIP) organized in 2012 to encourage local musicians to play jazz in support of its mission of musical\, charitable\, and educational purposes to advance the appreciation\, performance\, and history of jazz music and its related genres. Its membership includes a variety of talented musicians from the DeKalb County area. The ensemble also honors the practice of inviting local high school and college jazz musicians to sit in with the band\, giving young musicians an opportunity to gain more experience in playing jazz music.&nbsp\;</p><p>JIP is an official 501(c)(3) nonprofit organization that puts funds raised back into local community music programs. Past recipients of JIP donations include the DeKalb\, Genoa-Kingston\, Hinckley-Big Rock\, Indian Creek and Sycamore music booster organizations\, as well as St. Mary&rsquo\;s-DeKalb and the DeKalb County Community Foundation.&nbsp\;</p><p>JIP has performed at benefit and fund raising events and venues around the area including the St. Mary&rsquo\;s Lancer Legacy Ball\, Sycamore Natural History Museum&rsquo\;s Rockin&rsquo\; for the Reptiles\, Stage Coach Theatre\, Sycamore Farmers Market\, Northwestern Medicine Kishwaukee Hospital\, Artigras\, The House Caf&eacute\;\, and Oak Crest Senior Proms. The band also has performed with the Celebration Chorale and at many other community and charity events.&nbsp\;</p><p>This concert is free and open to all. No registration is required. Doors will open at 6:00 p.m. and music will begin at 6:30 p.m.</p></body></html>
LOCATION:309 Oak Street DeKalb IL 60115
UID:e.3588.1439292
SEQUENCE:3
DTSTAMP:20260422T163023Z
URL:https://members.dekalb.org/chambereventscalendar/Details/after-hours-concert-jazz-in-progress-1703693?sourceTypeId=Hub
END:VEVENT
END:VCALENDAR
