BEGIN:VCALENDAR
VERSION:2.0
PRODID:-//ChamberMaster//Event Calendar 2.0//EN
METHOD:PUBLISH
X-PUBLISHED-TTL:P1H
REFRESH-INTERVAL:P1H
CALSCALE:GREGORIAN
BEGIN:VTIMEZONE
TZID:America/Chicago
BEGIN:DAYLIGHT
RRULE:FREQ=YEARLY;BYMONTH=3;BYDAY=2SU
DTSTART:20070101T000000
TZOFFSETFROM:-0600
TZOFFSETTO:-0500
TZNAME:Central Daylight Time
END:DAYLIGHT
BEGIN:STANDARD
RRULE:FREQ=YEARLY;BYMONTH=11;BYDAY=1SU
DTSTART:20070101T000000
TZOFFSETFROM:-0500
TZOFFSETTO:-0600
TZNAME:Central Standard Time
END:STANDARD
END:VTIMEZONE
BEGIN:VEVENT
DTSTART;TZID=America/Chicago:20260523T150000
DTEND;TZID=America/Chicago:20260523T160000
X-MICROSOFT-CDO-ALLDAYEVENT:FALSE
SUMMARY:Afternoon Concert with Katie Kostner
DESCRIPTION:With a passion for music\, Katie Kostner plays the guitar and ukulele\, writes music\, and sings with a vocal range that suits a wide variety of styles\, from Broadway to current pop\, rock\, folk\, country and beyond! Covering artists such as Adele\, The Beatles\, Taylor Swift\, Elvis\, P!NK\, Dolly Parton\, The Rolling Stones\, Kelly Clarkson\, One Republic\, Fleetwood Mac\, Alanis Morisette\, Billy Joel\, Reba McEntire and Motley Cr e\, there is something to please everyone. Katie is a professional singer\, actress\, musician\, and songwriter with a passion for music and the stage. Locally\, she is known for performing live at area events\, as well as for producing her own series of Facebook and Instagram Live Quarantine Concerts\, leading to a feature story on Chicago's WGN news. In addition\, Katie has performed the National Anthem before a Chicago White Sox game in 2021 and 2022. This concert is free and open to all. No registration is required.
X-ALT-DESC;FMTTYPE=text/html:<!DOCTYPE html><html><head><title></title></head><body aria-disabled="false"><p>With a passion for music\, Katie Kostner plays the guitar and ukulele\, writes music\, and sings with a vocal range that suits a wide variety of styles\, from Broadway to current pop\, rock\, folk\, country and beyond! Covering artists such as Adele\, The Beatles\, Taylor Swift\, Elvis\, P!NK\, Dolly Parton\, The Rolling Stones\, Kelly Clarkson\, One Republic\, Fleetwood Mac\, Alanis Morisette\, Billy Joel\, Reba McEntire and Motley Cr&uuml\;e\, there is something to please everyone.&nbsp\;</p><p>Katie is a professional singer\, actress\, musician\, and songwriter with a passion for music and the stage. Locally\, she is known for performing live at area events\, as well as for producing her own series of Facebook and Instagram Live Quarantine Concerts\, leading to a feature story on Chicago&#39\;s WGN news. In addition\, Katie has performed the National Anthem before a Chicago White Sox game in 2021 and 2022.&nbsp\;</p><p>This concert is free and open to all. No registration is required.</p></body></html>
LOCATION:309 Oak Street DeKalb IL 60115
UID:e.3588.1439267
SEQUENCE:3
DTSTAMP:20260422T163414Z
URL:https://members.dekalb.org/chambereventscalendar/Details/afternoon-concert-with-katie-kostner-1703633?sourceTypeId=Hub
END:VEVENT
END:VCALENDAR
