BEGIN:VCALENDAR
VERSION:2.0
PRODID:-//ChamberMaster//Event Calendar 2.0//EN
METHOD:PUBLISH
X-PUBLISHED-TTL:P1H
REFRESH-INTERVAL:P1H
CALSCALE:GREGORIAN
BEGIN:VTIMEZONE
TZID:America/Chicago
BEGIN:DAYLIGHT
RRULE:FREQ=YEARLY;BYMONTH=3;BYDAY=2SU
DTSTART:20070101T000000
TZOFFSETFROM:-0600
TZOFFSETTO:-0500
TZNAME:Central Daylight Time
END:DAYLIGHT
BEGIN:STANDARD
RRULE:FREQ=YEARLY;BYMONTH=11;BYDAY=1SU
DTSTART:20070101T000000
TZOFFSETFROM:-0500
TZOFFSETTO:-0600
TZNAME:Central Standard Time
END:STANDARD
END:VTIMEZONE
BEGIN:VEVENT
DTSTART;TZID=America/Chicago:20260807T120000
DTEND;TZID=America/Chicago:20260807T170000
X-MICROSOFT-CDO-ALLDAYEVENT:FALSE
SUMMARY:Annual Golf-a-Palooza Golf Outing
DESCRIPTION:Registration coming soon!Enjoy your work day out on the course! Whether you are there for team bonding\, to seal the deal on your next big client\, or meet leads to make your year end goal\, the annual DeKalb Chamber Golf Outing is the place to do it! With an average of 130+ golfers and a sell out of sponsorships\, you will not want to miss out on all the fun! \n\nGolfers will enjoy a fun afternoon that includes 18 holes with a cart\, lunch\, dinner\, drinks\, games\, and connecting with other business professionals. Mulligans\, string\, and raffle tickets will be available for purchase online during registration and at the event. Golfer check-in starts at 11:00 a.m. Shotgun start at 12:00 Noon.\n\nContact us at 815-756-6306 with questions.\n\nSponsor\, play\, and save! Purchase a sponsorship plus a foursome and receive mulligans and string! Contact anna.wilson@dekalb.org for sponsorship questions.
X-ALT-DESC;FMTTYPE=text/html:<!DOCTYPE html><html><head><title></title></head><body aria-disabled="false"><p><strong fr-original-style="" style="font-weight: 700\;">Registration coming soon!</strong></p><p>Enjoy your work day out on the course! Whether you are there for team bonding\, to seal the deal on your next big client\, or meet leads to make your year end goal\, the annual DeKalb Chamber Golf Outing is the place to do it! With an average of 130+ golfers and a sell out of sponsorships\, you will not want to miss out on all the fun! <br><br>Golfers will enjoy a fun afternoon that includes 18 holes with a cart\, lunch\, dinner\, drinks\, games\, and connecting with other business professionals. Mulligans\, string\, and raffle tickets will be available for purchase online during registration and at the event. Golfer check-in starts at 11:00 a.m. Shotgun start at 12:00 Noon.<br><br>Contact us at 815-756-6306 with questions.<br><br>Sponsor\, play\, and save! Purchase a sponsorship plus a foursome and receive mulligans and string! Contact anna.wilson@dekalb.org for sponsorship questions.&nbsp\;</p></body></html>
LOCATION:1100 S. Annie Glidden Rd. DeKalb IL 60115
UID:e.3588.1446575
SEQUENCE:3
DTSTAMP:20260422T163135Z
URL:https://members.dekalb.org/chambereventscalendar/Details/annual-golf-a-palooza-golf-outing-1713350?sourceTypeId=Hub
END:VEVENT
END:VCALENDAR
