BEGIN:VCALENDAR
VERSION:2.0
PRODID:-//ChamberMaster//Event Calendar 2.0//EN
METHOD:PUBLISH
X-PUBLISHED-TTL:P1H
REFRESH-INTERVAL:P1H
CALSCALE:GREGORIAN
BEGIN:VTIMEZONE
TZID:America/Chicago
BEGIN:DAYLIGHT
RRULE:FREQ=YEARLY;BYMONTH=3;BYDAY=2SU
DTSTART:20070101T000000
TZOFFSETFROM:-0600
TZOFFSETTO:-0500
TZNAME:Central Daylight Time
END:DAYLIGHT
BEGIN:STANDARD
RRULE:FREQ=YEARLY;BYMONTH=11;BYDAY=1SU
DTSTART:20070101T000000
TZOFFSETFROM:-0500
TZOFFSETTO:-0600
TZNAME:Central Standard Time
END:STANDARD
END:VTIMEZONE
BEGIN:VEVENT
DTSTART;TZID=America/Chicago:20260620T160000
DTEND;TZID=America/Chicago:20260620T190000
X-MICROSOFT-CDO-ALLDAYEVENT:FALSE
SUMMARY:DeKalb Pride Fest 2026
DESCRIPTION:DeKalb Pride Fest is an annual event that takes place in downtown DeKalb\, IL and is centered around connecting LGBTQIA+ individuals with local businesses and resources while also being a fun event for everyone. In the past we've had over 80 vendors and over 1\,000+ attendees. This is the sixth year of this event. If you are interested in participating\, please fill out the following form: https://forms.gle/Bqo2sPHgXQVzdvgN7
X-ALT-DESC;FMTTYPE=text/html:<!DOCTYPE html><html><head><title></title></head><body aria-disabled="false"><p>DeKalb Pride Fest is an annual event that takes place in downtown DeKalb\, IL and is centered around connecting LGBTQIA+ individuals with local businesses and resources while also being a fun event for everyone. In the past we&#39\;ve had over 80 vendors and over 1\,000+ attendees. This is the sixth year of this event.&nbsp\;</p><p>If you are interested in participating\, please fill out the following form: <a fr-original-style="" href="https://forms.gle/Bqo2sPHgXQVzdvgN7" style="user-select: auto\;">https://forms.gle/Bqo2sPHgXQVzdvgN7</a></p><p><br></p></body></html>
LOCATION:148 N. Second St. DeKalb IL 60115
UID:e.3588.1439925
SEQUENCE:3
DTSTAMP:20260422T163023Z
URL:https://members.dekalb.org/chambereventscalendar/Details/dekalb-pride-fest-2026-1704578?sourceTypeId=Hub
END:VEVENT
END:VCALENDAR
