BEGIN:VCALENDAR
VERSION:2.0
PRODID:-//ChamberMaster//Event Calendar 2.0//EN
METHOD:PUBLISH
X-PUBLISHED-TTL:P1H
REFRESH-INTERVAL:P1H
CALSCALE:GREGORIAN
BEGIN:VTIMEZONE
TZID:America/Chicago
BEGIN:DAYLIGHT
RRULE:FREQ=YEARLY;BYMONTH=3;BYDAY=2SU
DTSTART:20070101T000000
TZOFFSETFROM:-0600
TZOFFSETTO:-0500
TZNAME:Central Daylight Time
END:DAYLIGHT
BEGIN:STANDARD
RRULE:FREQ=YEARLY;BYMONTH=11;BYDAY=1SU
DTSTART:20070101T000000
TZOFFSETFROM:-0500
TZOFFSETTO:-0600
TZNAME:Central Standard Time
END:STANDARD
END:VTIMEZONE
BEGIN:VEVENT
DTSTART;TZID=America/Chicago:20260722T163000
DTEND;TZID=America/Chicago:20260722T190000
X-MICROSOFT-CDO-ALLDAYEVENT:FALSE
SUMMARY:Family Fun Fest
DESCRIPTION:Registration coming soon!Come be a part of a 14-year community tradition! Enjoy the summer in a beautiful park before the kids get ready to go back to school. Each vendor is asked to provide a game\, activity\, and/or takeaway activity for kids of all ages and abilities. We want to help you share what you do with our local families\, so offer a game or activity that spotlights that. Vendors are welcome to host a raffle at their booth.This event will be held on Wednesday\, July 22\, at Hopkins Park from 4:30-7:00 pm. The event is free for attendees. Vendors are located in the grass behind the bandshell. Enter Family Fun Fest at the stoplight at the intersection of Sycamore Road and Dresser Road.Come join the summertime fun at Family Fun Fest in Hopkins Park on Wednesday\, July 22! This free-to-attend event is packed with family-friendly activities\, swag\, and giveaways for everyone to enjoy. Meet and connect with local businesses and organizations in a fun and engaging atmosphere while making summer memories with your family!
X-ALT-DESC;FMTTYPE=text/html:<!DOCTYPE html><html><head><title></title></head><body aria-disabled="false"><p><strong fr-original-style="" style="font-weight: 700\;">Registration coming soon!</strong></p><p>Come be a part of a 14-year community tradition! Enjoy the summer in a beautiful park before the kids get ready to go back to school. Each vendor is asked to provide a game\, activity\, and/or takeaway activity for kids of all ages and abilities. We want to help you share what you do with our local families\, so offer a game or activity that spotlights that. Vendors are welcome to host a raffle at their booth.</p><p>This event will be held on Wednesday\, July 22\, at Hopkins Park from 4:30-7:00 pm. The event is free for attendees. Vendors are located in the grass behind the bandshell. Enter Family Fun Fest at the stoplight at the intersection of Sycamore Road and Dresser Road.</p><hr fr-original-style="" style="clear: both\; user-select: none\; break-after: page\;"><p>Come join the summertime fun at Family Fun Fest in Hopkins Park on Wednesday\, July 22! This <u>free-to-attend</u> event is packed with family-friendly activities\, swag\, and giveaways for everyone to enjoy. Meet and connect with local businesses and organizations in a fun and engaging atmosphere while making summer memories with your family!</p></body></html>
LOCATION:1403 Sycamore Rd. DeKalb IL 60115
UID:e.3588.1446578
SEQUENCE:3
DTSTAMP:20260422T163144Z
URL:https://members.dekalb.org/chambereventscalendar/Details/family-fun-fest-1713353?sourceTypeId=Hub
END:VEVENT
END:VCALENDAR
