BEGIN:VCALENDAR
VERSION:2.0
PRODID:-//ChamberMaster//Event Calendar 2.0//EN
METHOD:PUBLISH
X-PUBLISHED-TTL:P1H
REFRESH-INTERVAL:P1H
CALSCALE:GREGORIAN
BEGIN:VTIMEZONE
TZID:America/Chicago
BEGIN:DAYLIGHT
RRULE:FREQ=YEARLY;BYMONTH=3;BYDAY=2SU
DTSTART:20070101T000000
TZOFFSETFROM:-0600
TZOFFSETTO:-0500
TZNAME:Central Daylight Time
END:DAYLIGHT
BEGIN:STANDARD
RRULE:FREQ=YEARLY;BYMONTH=11;BYDAY=1SU
DTSTART:20070101T000000
TZOFFSETFROM:-0500
TZOFFSETTO:-0600
TZNAME:Central Standard Time
END:STANDARD
END:VTIMEZONE
BEGIN:VEVENT
DTSTART;TZID=America/Chicago:20260530T100000
DTEND;TZID=America/Chicago:20260530T110000
X-MICROSOFT-CDO-ALLDAYEVENT:FALSE
SUMMARY:Family Fun Science: Making Musical Instruments
DESCRIPTION:You can make music! In this month’s Family Fun Science\, we’ll be using our science knowledge and basic recycled materials to make musical instruments. You’ll see that musical instruments don’t have to be fancy or expensive.  All it takes is basic knowledge of what makes sound and materials to make those vibrations happen.\n\nAfter a time of building\, we’ll have a jam session where we can all play together. \n\nThe program is limited to the first 30 children to arrive.
X-ALT-DESC;FMTTYPE=text/html:You can make music! In this month’s Family Fun Science\, we’ll be using our science knowledge and basic recycled materials to make musical instruments. You’ll see that musical instruments don’t have to be fancy or expensive.  All it takes is basic knowledge of what makes sound and materials to make those vibrations happen.\n\nAfter a time of building\, we’ll have a jam session where we can all play together. \n\nThe program is limited to the first 30 children to arrive.
LOCATION:309 Oak Street DeKalb IL 60115
UID:e.3588.1439281
SEQUENCE:3
DTSTAMP:20260422T163136Z
URL:https://members.dekalb.org/chambereventscalendar/Details/family-fun-science-making-musical-instruments-1703683?sourceTypeId=Hub
END:VEVENT
END:VCALENDAR
