BEGIN:VCALENDAR
VERSION:2.0
PRODID:-//ChamberMaster//Event Calendar 2.0//EN
METHOD:PUBLISH
X-PUBLISHED-TTL:P1H
REFRESH-INTERVAL:P1H
CALSCALE:GREGORIAN
BEGIN:VTIMEZONE
TZID:America/Chicago
BEGIN:DAYLIGHT
RRULE:FREQ=YEARLY;BYMONTH=3;BYDAY=2SU
DTSTART:20070101T000000
TZOFFSETFROM:-0600
TZOFFSETTO:-0500
TZNAME:Central Daylight Time
END:DAYLIGHT
BEGIN:STANDARD
RRULE:FREQ=YEARLY;BYMONTH=11;BYDAY=1SU
DTSTART:20070101T000000
TZOFFSETFROM:-0500
TZOFFSETTO:-0600
TZNAME:Central Standard Time
END:STANDARD
END:VTIMEZONE
BEGIN:VEVENT
DTSTART;TZID=America/Chicago:20260510T093000
DTEND;TZID=America/Chicago:20260510T143000
X-MICROSOFT-CDO-ALLDAYEVENT:FALSE
SUMMARY:Faranda's Mother's Day Brunch
DESCRIPTION:Enjoy Faranda's Annual all you can eat Mother's Day Brunch. The menu includes breakfast buffet\, lunch buffet and appetizer buffet. The highlights of the experience are the live stations were cooks bring your meal together before your eyes: made-to-order omelet station\, sauteed pasta station\, and prime rib carving station. Finish your meal with desert including cookies\, cakes\, pies\, soft served ice-cream\, and chocolate fountain. This all you can eat experience includes all of your non-alcoholic beverages: juice\, coffee\, tea\, and soda.
X-ALT-DESC;FMTTYPE=text/html:<!DOCTYPE html><html><head><title></title></head><body aria-disabled="false"><p><span style='color: rgb(39\, 39\, 39)\; font-family: "Open Sans"\, sans-serif\; font-size: 16.8px\; font-style: normal\; font-variant-ligatures: normal\; font-variant-caps: normal\; font-weight: 400\; letter-spacing: normal\; orphans: 2\; text-align: start\; text-indent: 0px\; text-transform: none\; widows: 2\; word-spacing: 0px\; -webkit-text-stroke-width: 0px\; white-space: normal\; background-color: rgb(255\, 255\, 255)\; text-decoration-thickness: initial\; text-decoration-style: initial\; text-decoration-color: initial\; display: inline !important\; float: none\;'>Enjoy Faranda&#39\;s Annual all you can eat Mother&#39\;s Day Brunch. The menu includes breakfast buffet\, lunch buffet and appetizer buffet. The highlights of the experience are the live stations were cooks bring your meal together before your eyes: made-to-order omelet station\, sauteed pasta station\, and prime rib carving station. Finish your meal with desert including cookies\, cakes\, pies\, soft served ice-cream\, and chocolate fountain.&nbsp\;</span></p><p><span style='color: rgb(39\, 39\, 39)\; font-family: "Open Sans"\, sans-serif\; font-size: 16.8px\; font-style: normal\; font-variant-ligatures: normal\; font-variant-caps: normal\; font-weight: 400\; letter-spacing: normal\; orphans: 2\; text-align: start\; text-indent: 0px\; text-transform: none\; widows: 2\; word-spacing: 0px\; -webkit-text-stroke-width: 0px\; white-space: normal\; background-color: rgb(255\, 255\, 255)\; text-decoration-thickness: initial\; text-decoration-style: initial\; text-decoration-color: initial\; display: inline !important\; float: none\;'>This all you can eat experience includes all of your non-alcoholic beverages: juice\, coffee\, tea\, and soda.&nbsp\;</span></p></body></html>
LOCATION:
UID:e.3588.1440101
SEQUENCE:3
DTSTAMP:20260422T163209Z
URL:https://members.dekalb.org/chambereventscalendar/Details/faranda-s-mother-s-day-brunch-1704797?sourceTypeId=Hub
END:VEVENT
END:VCALENDAR
