BEGIN:VCALENDAR
VERSION:2.0
PRODID:-//ChamberMaster//Event Calendar 2.0//EN
METHOD:PUBLISH
X-PUBLISHED-TTL:P1H
REFRESH-INTERVAL:P1H
CALSCALE:GREGORIAN
BEGIN:VTIMEZONE
TZID:America/Chicago
BEGIN:DAYLIGHT
RRULE:FREQ=YEARLY;BYMONTH=3;BYDAY=2SU
DTSTART:20070101T000000
TZOFFSETFROM:-0600
TZOFFSETTO:-0500
TZNAME:Central Daylight Time
END:DAYLIGHT
BEGIN:STANDARD
RRULE:FREQ=YEARLY;BYMONTH=11;BYDAY=1SU
DTSTART:20070101T000000
TZOFFSETFROM:-0500
TZOFFSETTO:-0600
TZNAME:Central Standard Time
END:STANDARD
END:VTIMEZONE
BEGIN:VEVENT
DTSTART;TZID=America/Chicago:20260416T110000
DTEND;TZID=America/Chicago:20260416T120000
X-MICROSOFT-CDO-ALLDAYEVENT:FALSE
SUMMARY:: Free Presentation “Knee Pain: Prevention and Management” Hosted by Northern Rehab and Kishwaukee YMCA
DESCRIPTION:Northern Rehab Physical Therapy Specialists and the Kishwaukee Family YMCA invite the public to join them for their collaborative Lunch & Learn Educational Series on Thursday\, April 16 at 11:00 am held at the Kishwaukee Family YMCA in Sycamore. This event is free and open to the public and refreshments will be provided by co-sponsor\, Hy-Vee in Sycamore.April's presentation topic is "Knee Pain: Prevention & Management" presented by Northern Rehab's physical therapist Brandon Clement. Attendees will learn about knee anatomy\, common injuries\, and strategies to prevent and self-treat injuries.This free event is open to the public (YMCA membership is not required)\, but space is limited\, and registration is required. You may sign up online at kishymca.org or call 815.375.5392.For more information about this event\, please visit northernrehabpt.com/events or kishymca.org or call 815.375.5392.
X-ALT-DESC;FMTTYPE=text/html:<!DOCTYPE html><html><head><title></title></head><body aria-disabled="false"><p>Northern Rehab Physical Therapy Specialists and the Kishwaukee Family YMCA invite the public to join them for their collaborative Lunch &amp\; Learn Educational Series on Thursday\, April 16 at 11:00 am held at the Kishwaukee Family YMCA in Sycamore. This event is free and open to the public and refreshments will be provided by co-sponsor\, Hy-Vee in Sycamore.</p><p>April&rsquo\;s presentation topic is &ldquo\;Knee Pain: Prevention &amp\; Management&rdquo\; presented by Northern Rehab&rsquo\;s physical therapist Brandon Clement. Attendees will learn about knee anatomy\, common injuries\, and strategies to prevent and self-treat injuries.</p><p>This free event is open to the public (YMCA membership is not required)\, but space is limited\, and registration is required. You may sign up online at kishymca.org or call 815.375.5392.</p><p>For more information about this event\, please visit northernrehabpt.com/events or kishymca.org or call 815.375.5392.</p><p><br></p></body></html>
LOCATION:
UID:e.3588.1436869
SEQUENCE:3
DTSTAMP:20260422T163802Z
URL:https://members.dekalb.org/chambereventscalendar/Details/free-presentation-knee-pain-prevention-and-management-hosted-by-northern-rehab-and-kishwaukee-ymca-1700889?sourceTypeId=Hub
END:VEVENT
END:VCALENDAR
