BEGIN:VCALENDAR
VERSION:2.0
PRODID:-//ChamberMaster//Event Calendar 2.0//EN
METHOD:PUBLISH
X-PUBLISHED-TTL:P1H
REFRESH-INTERVAL:P1H
CALSCALE:GREGORIAN
BEGIN:VTIMEZONE
TZID:America/Chicago
BEGIN:DAYLIGHT
RRULE:FREQ=YEARLY;BYMONTH=3;BYDAY=2SU
DTSTART:20070101T000000
TZOFFSETFROM:-0600
TZOFFSETTO:-0500
TZNAME:Central Daylight Time
END:DAYLIGHT
BEGIN:STANDARD
RRULE:FREQ=YEARLY;BYMONTH=11;BYDAY=1SU
DTSTART:20070101T000000
TZOFFSETFROM:-0500
TZOFFSETTO:-0600
TZNAME:Central Standard Time
END:STANDARD
END:VTIMEZONE
BEGIN:VEVENT
DTSTART;TZID=America/Chicago:20260502T140000
DTEND;TZID=America/Chicago:20260502T153000
X-MICROSOFT-CDO-ALLDAYEVENT:FALSE
SUMMARY:Kentucky Derby Celebration
DESCRIPTION:The Kentucky Derby is the longest continually held sporting event in America\, and it is one of the most prestigious horse races in the world. It has a rich tradition of fancy dress\, specialty food\, and of course\, horse-racing. Celebrate the Run for the Roses by making a traditional "Fascinator" hat to wear while you view clips of the greatest two minutes in sports\, sip Mint Juleps (non-alcoholic) and enjoy other refreshments. Explore horse riding gear provided by Tiny Voice Therapy Services of Elburn\, play games including a children's obstacle course\, "place your bets" to win a raffle prize\, and get your photo taken in the winner's circle! Dressing up for a day at the races is encouraged for this program. This all-ages event is sponsored by the Friends of the Library and is part of the America 250 initiative: celebrating our nation throughout the year. No registration is required.
X-ALT-DESC;FMTTYPE=text/html:<!DOCTYPE html><html><head><title></title></head><body aria-disabled="false"><p>The Kentucky Derby is the longest continually held sporting event in America\, and it is one of the most prestigious horse races in the world. It has a rich tradition of fancy dress\, specialty food\, and of course\, horse-racing.</p><p>&nbsp\;Celebrate the Run for the Roses by making a traditional &ldquo\;Fascinator&rdquo\; hat to wear while you view clips of the greatest two minutes in sports\, sip Mint Juleps (non-alcoholic) and enjoy other refreshments. Explore horse riding gear provided by Tiny Voice Therapy Services of Elburn\, play games including a children&rsquo\;s obstacle course\, &ldquo\;place your bets&rdquo\; to win a raffle prize\, and get your photo taken in the winner&rsquo\;s circle!&nbsp\;</p><p>Dressing up for a day at the races is encouraged for this program. This all-ages event is sponsored by the Friends of the Library and is part of the America 250 initiative: celebrating our nation throughout the year. No registration is required.</p></body></html>
LOCATION:309 Oak Street DeKalb IL 60115
UID:e.3588.1439012
SEQUENCE:3
DTSTAMP:20260422T163209Z
URL:https://members.dekalb.org/chambereventscalendar/Details/kentucky-derby-celebration-1703212?sourceTypeId=Hub
END:VEVENT
END:VCALENDAR
