BEGIN:VCALENDAR
VERSION:2.0
PRODID:-//ChamberMaster//Event Calendar 2.0//EN
METHOD:PUBLISH
X-PUBLISHED-TTL:P1H
REFRESH-INTERVAL:P1H
CALSCALE:GREGORIAN
BEGIN:VTIMEZONE
TZID:America/Chicago
BEGIN:DAYLIGHT
RRULE:FREQ=YEARLY;BYMONTH=3;BYDAY=2SU
DTSTART:20070101T000000
TZOFFSETFROM:-0600
TZOFFSETTO:-0500
TZNAME:Central Daylight Time
END:DAYLIGHT
BEGIN:STANDARD
RRULE:FREQ=YEARLY;BYMONTH=11;BYDAY=1SU
DTSTART:20070101T000000
TZOFFSETFROM:-0500
TZOFFSETTO:-0600
TZNAME:Central Standard Time
END:STANDARD
END:VTIMEZONE
BEGIN:VEVENT
DTSTART;TZID=America/Chicago:20260502T193000
DTEND;TZID=America/Chicago:20260502T210000
X-MICROSOFT-CDO-ALLDAYEVENT:FALSE
SUMMARY:KSO's Season Finale Concert: Springtime in Vienna
DESCRIPTION:Celebrate the conclusion of our 49th season with a musical journey to Austria! This concert will feature The Blue Danube Waltz by Johann Strauss Jr.\, as well as the monumental Symphony No. 5 in C# Minor of Gustav Mahler\, a KSO premiere. This concert is sponsored in part by JoAnn Smelser.
X-ALT-DESC;FMTTYPE=text/html:<!DOCTYPE html><html><head><title></title></head><body aria-disabled="false"><div style="box-sizing: border-box\; min-width: 1px\; position: relative\; transition-duration: 0.3s\; transition-property: border-color\, background-color\, box-shadow\, opacity\, filter\, transform\; transition-timing-function: cubic-bezier(0.4\, 0\, 0.2\, 1)\; font-family: Merriweather\, serif\; font-style: italic\; font-weight: 900\; border-width: 0px\; font-size: 19px\; margin: 0em 0em 15px\; color: rgb(14\, 19\, 25)\; font-variant-ligatures: normal\; font-variant-caps: normal\; letter-spacing: normal\; orphans: 2\; text-align: start\; text-indent: 0px\; text-transform: none\; widows: 2\; word-spacing: 0px\; -webkit-text-stroke-width: 0px\; white-space: normal\; background-color: rgb(255\, 255\, 255)\; text-decoration-thickness: initial\; text-decoration-style: initial\; text-decoration-color: initial\;"><div style="box-sizing: border-box\; display: flex\;"><em>Celebrate the conclusion of our 49th season with a musical journey to Austria! This concert will feature The Blue Danube Waltz by Johann Strauss Jr.\, as well as the monumental Symphony No. 5 in C# Minor of Gustav Mahler\, a KSO premiere. This concert is sponsored in part by JoAnn Smelser.</em></div></div></body></html>
LOCATION:
UID:e.3588.1439243
SEQUENCE:3
DTSTAMP:20260422T163709Z
URL:https://members.dekalb.org/chambereventscalendar/Details/kso-s-season-finale-concert-springtime-in-vienna-1703609?sourceTypeId=Hub
END:VEVENT
END:VCALENDAR
