BEGIN:VCALENDAR
VERSION:2.0
PRODID:-//ChamberMaster//Event Calendar 2.0//EN
METHOD:PUBLISH
X-PUBLISHED-TTL:P1H
REFRESH-INTERVAL:P1H
CALSCALE:GREGORIAN
BEGIN:VTIMEZONE
TZID:America/Chicago
BEGIN:DAYLIGHT
RRULE:FREQ=YEARLY;BYMONTH=3;BYDAY=2SU
DTSTART:20070101T000000
TZOFFSETFROM:-0600
TZOFFSETTO:-0500
TZNAME:Central Daylight Time
END:DAYLIGHT
BEGIN:STANDARD
RRULE:FREQ=YEARLY;BYMONTH=11;BYDAY=1SU
DTSTART:20070101T000000
TZOFFSETFROM:-0500
TZOFFSETTO:-0600
TZNAME:Central Standard Time
END:STANDARD
END:VTIMEZONE
BEGIN:VEVENT
DTSTART;TZID=America/Chicago:20260530T140000
DTEND;TZID=America/Chicago:20260530T150000
X-MICROSOFT-CDO-ALLDAYEVENT:FALSE
SUMMARY:Music the Native Way
DESCRIPTION:In this program\, Kim Sigafus McIver will present on the history of Native instruments and their use. The drum\, rain stick\, and flute will be introduced\, and attendees will be invited to play an instrument and learn a song. Everyone will also receive a handout of music to take home. A brief Q&A will follow the presentation.\n\nKim Sigafus McIver is an award-winning Ojibwe author and speaker.  \n\nThis event is part of the America 250 initiative\, celebrating our nation throughout the year.\n\nThis program is for all ages. No registration is required. It is sponsored by the Kishwaukee-DeKalb Kiwanis Club.
X-ALT-DESC;FMTTYPE=text/html:In this program\, Kim Sigafus McIver will present on the history of Native instruments and their use. The drum\, rain stick\, and flute will be introduced\, and attendees will be invited to play an instrument and learn a song. Everyone will also receive a handout of music to take home. A brief Q&A will follow the presentation.\n\nKim Sigafus McIver is an award-winning Ojibwe author and speaker.  \n\nThis event is part of the America 250 initiative\, celebrating our nation throughout the year.\n\nThis program is for all ages. No registration is required. It is sponsored by the Kishwaukee-DeKalb Kiwanis Club.
LOCATION:309 Oak Street DeKalb IL 60115
UID:e.3588.1439274
SEQUENCE:3
DTSTAMP:20260424T083430Z
URL:https://members.dekalb.org/chambereventscalendar/Details/music-the-native-way-1703640?sourceTypeId=Hub
END:VEVENT
END:VCALENDAR
