BEGIN:VCALENDAR
VERSION:2.0
PRODID:-//ChamberMaster//Event Calendar 2.0//EN
METHOD:PUBLISH
X-PUBLISHED-TTL:P1H
REFRESH-INTERVAL:P1H
CALSCALE:GREGORIAN
BEGIN:VTIMEZONE
TZID:America/Chicago
BEGIN:DAYLIGHT
RRULE:FREQ=YEARLY;BYMONTH=3;BYDAY=2SU
DTSTART:20070101T000000
TZOFFSETFROM:-0600
TZOFFSETTO:-0500
TZNAME:Central Daylight Time
END:DAYLIGHT
BEGIN:STANDARD
RRULE:FREQ=YEARLY;BYMONTH=11;BYDAY=1SU
DTSTART:20070101T000000
TZOFFSETFROM:-0500
TZOFFSETTO:-0600
TZNAME:Central Standard Time
END:STANDARD
END:VTIMEZONE
BEGIN:VEVENT
DTSTART;TZID=America/Chicago:20260509T110000
DTEND;TZID=America/Chicago:20260509T160000
X-MICROSOFT-CDO-ALLDAYEVENT:FALSE
SUMMARY:NIU Graduation Celebration at Faranda’s
DESCRIPTION:Join Faranda's on commencement day to celebrate the class of 2026. Enjoy an upscale buffet style meal with chef attended stations. Menu includes salad bar\, prime rib carving station\, baked ham carving station\, sauteed pasta station\, appetizers\, baked salmon\, Mediterranean grilled chicken\, mashed potatoes\, deserts\, and more!Seatings from 11am to 4pm. Make a reservation online today. farandas.com/upcoming-events/*Reservations Required*
X-ALT-DESC;FMTTYPE=text/html:<!DOCTYPE html><html><head><title></title></head><body aria-disabled="false"><p>Join Faranda&#39\;s on commencement day to celebrate the class of 2026.&nbsp\;</p><p>Enjoy an upscale buffet style meal with chef attended stations. Menu includes salad bar\, prime rib carving station\, baked ham carving station\, sauteed pasta station\, appetizers\, baked salmon\, Mediterranean grilled chicken\, mashed potatoes\, deserts\, and more!</p><p>Seatings from 11am to 4pm. Make a reservation online today. <a fr-original-style="" href="https://farandas.com/upcoming-events/" style="user-select: auto\;">farandas.com/upcoming-events/</a></p><p>*Reservations Required*</p></body></html>
LOCATION:
UID:e.3588.1445170
SEQUENCE:3
DTSTAMP:20260422T163318Z
URL:https://members.dekalb.org/chambereventscalendar/Details/niu-graduation-celebration-at-faranda-s-1711677?sourceTypeId=Hub
END:VEVENT
END:VCALENDAR
