BEGIN:VCALENDAR
VERSION:2.0
PRODID:-//ChamberMaster//Event Calendar 2.0//EN
METHOD:PUBLISH
X-PUBLISHED-TTL:P1H
REFRESH-INTERVAL:P1H
CALSCALE:GREGORIAN
BEGIN:VTIMEZONE
TZID:America/Chicago
BEGIN:DAYLIGHT
RRULE:FREQ=YEARLY;BYMONTH=3;BYDAY=2SU
DTSTART:20070101T000000
TZOFFSETFROM:-0600
TZOFFSETTO:-0500
TZNAME:Central Daylight Time
END:DAYLIGHT
BEGIN:STANDARD
RRULE:FREQ=YEARLY;BYMONTH=11;BYDAY=1SU
DTSTART:20070101T000000
TZOFFSETFROM:-0500
TZOFFSETTO:-0600
TZNAME:Central Standard Time
END:STANDARD
END:VTIMEZONE
BEGIN:VEVENT
DTSTART;TZID=America/Chicago:20260506T130000
DTEND;TZID=America/Chicago:20260506T180000
X-MICROSOFT-CDO-ALLDAYEVENT:FALSE
SUMMARY:Red Cross Blood Drive
DESCRIPTION:Give the Gift of Life! The American Red Cross will be conducting a blood drive at the DeKalb Public Library.\n\nAmerican Red Cross blood donors are critical to ensuring those in need receive relief and care. Right now\, we’re urging donors to continue to help us strengthen the blood supply. Donors of all blood types – particularly type O blood donors – are crucial to meeting daily hospital demands.\n\nAn advance appointment is preferred. Visit the American Red Cross website\, type in your zip code\, and select the DeKalb Public Library to make an appointment\, or call 1-800-RED-CROSS (1-800-733-2767) to make an appointment or ask questions about giving blood.\n\nYou can also visit the Red Cross website for more general information about the donation process.
X-ALT-DESC;FMTTYPE=text/html:Give the Gift of Life! The American Red Cross will be conducting a blood drive at the DeKalb Public Library.\n\nAmerican Red Cross blood donors are critical to ensuring those in need receive relief and care. Right now\, we’re urging donors to continue to help us strengthen the blood supply. Donors of all blood types – particularly type O blood donors – are crucial to meeting daily hospital demands.\n\nAn advance appointment is preferred. Visit the American Red Cross website\, type in your zip code\, and select the DeKalb Public Library to make an appointment\, or call 1-800-RED-CROSS (1-800-733-2767) to make an appointment or ask questions about giving blood.\n\nYou can also visit the Red Cross website for more general information about the donation process.
LOCATION:309 Oak Street DeKalb IL 60115
UID:e.3588.1439024
SEQUENCE:3
DTSTAMP:20260422T163023Z
URL:https://members.dekalb.org/chambereventscalendar/Details/red-cross-blood-drive-1703224?sourceTypeId=Hub
END:VEVENT
END:VCALENDAR
