BEGIN:VCALENDAR
VERSION:2.0
PRODID:-//ChamberMaster//Event Calendar 2.0//EN
METHOD:PUBLISH
X-PUBLISHED-TTL:P1H
REFRESH-INTERVAL:P1H
CALSCALE:GREGORIAN
BEGIN:VTIMEZONE
TZID:America/Chicago
BEGIN:DAYLIGHT
RRULE:FREQ=YEARLY;BYMONTH=3;BYDAY=2SU
DTSTART:20070101T000000
TZOFFSETFROM:-0600
TZOFFSETTO:-0500
TZNAME:Central Daylight Time
END:DAYLIGHT
BEGIN:STANDARD
RRULE:FREQ=YEARLY;BYMONTH=11;BYDAY=1SU
DTSTART:20070101T000000
TZOFFSETFROM:-0500
TZOFFSETTO:-0600
TZNAME:Central Standard Time
END:STANDARD
END:VTIMEZONE
BEGIN:VEVENT
DTSTART;TZID=America/Chicago:20260516T130000
DTEND;TZID=America/Chicago:20260516T140000
X-MICROSOFT-CDO-ALLDAYEVENT:FALSE
SUMMARY:Remembering Port Chicago & Cyril O. Sheppard
DESCRIPTION:The explosion at Port Chicago in July 1944 killed 320 people and injured around 400 others\, most of them young African American sailors who had been assigned dangerous munitions-loading work with little training. When survivors refused to return to the same unsafe conditions\, 50 of them\, including\, Cyril O. Sheppard\, were charged with mutiny in what became one of the most consequential civil rights cases of the WWII era. Their resistance helped expose systemic racism in the Navy and contributed to the eventual desegregation of the U.S. military.Carol Cherry\, daughter of Cyril O. Sheppard\, presents a tale of great significance to American history that occurred long before the civil rights movement. The history of Port Chicago is not only significant\; it's foundational to understanding the racial inequities Black servicemen faced during WWII and the courage it took for the Port Chicago 50 to stand up against unsafe\, discriminatory conditions. On July 17\, 2024 the 80th anniversary of the Port Chicago explosion the Secretary of the Navy\, Carlos Del Toro issued a full exoneration to all 256 men charged with mutiny for refusing an illegal and unsafe order\, highlighting how profoundly overdue this acknowledgment truly was. This program is free and open to teens and adults. No registration is required.
X-ALT-DESC;FMTTYPE=text/html:<!DOCTYPE html><html><head><title></title></head><body aria-disabled="false"><p>The explosion at Port Chicago in July 1944 killed 320 people and injured around 400 others\, most of them young African American sailors who had been assigned dangerous munitions-loading work with little training. When survivors refused to return to the same unsafe conditions\, 50 of them\, including\, Cyril O. Sheppard\, were charged with mutiny in what became one of the most consequential civil rights cases of the WWII era. Their resistance helped expose systemic racism in the Navy and contributed to the eventual desegregation of the U.S. military.</p><p>Carol Cherry\, daughter of Cyril O. Sheppard\, presents a tale of great significance to American history that occurred long before the civil rights movement. The history of Port Chicago is not only significant\; it&rsquo\;s foundational to understanding the racial inequities Black servicemen faced during WWII and the courage it took for the Port Chicago 50 to stand up against unsafe\, discriminatory conditions.&nbsp\;</p><p>On July 17\, 2024&mdash\;the 80th anniversary of the Port Chicago explosion&mdash\;the Secretary of the Navy\, Carlos Del Toro issued a full exoneration to all 256 men charged with mutiny for refusing an illegal and unsafe order\, highlighting how profoundly overdue this acknowledgment truly was.&nbsp\;</p><p>This program is free and open to teens and adults. No registration is required.</p></body></html>
LOCATION:309 Oak Street DeKalb IL 60115
UID:e.3588.1439195
SEQUENCE:3
DTSTAMP:20260422T163209Z
URL:https://members.dekalb.org/chambereventscalendar/Details/remembering-port-chicago-cyril-o-sheppard-1703424?sourceTypeId=Hub
END:VEVENT
END:VCALENDAR
