BEGIN:VCALENDAR
VERSION:2.0
PRODID:-//ChamberMaster//Event Calendar 2.0//EN
METHOD:PUBLISH
X-PUBLISHED-TTL:P1H
REFRESH-INTERVAL:P1H
CALSCALE:GREGORIAN
BEGIN:VTIMEZONE
TZID:America/Chicago
BEGIN:DAYLIGHT
RRULE:FREQ=YEARLY;BYMONTH=3;BYDAY=2SU
DTSTART:20070101T000000
TZOFFSETFROM:-0600
TZOFFSETTO:-0500
TZNAME:Central Daylight Time
END:DAYLIGHT
BEGIN:STANDARD
RRULE:FREQ=YEARLY;BYMONTH=11;BYDAY=1SU
DTSTART:20070101T000000
TZOFFSETFROM:-0500
TZOFFSETTO:-0600
TZNAME:Central Standard Time
END:STANDARD
END:VTIMEZONE
BEGIN:VEVENT
DTSTART;TZID=America/Chicago:20260520T083000
DTEND;TZID=America/Chicago:20260520T100000
X-MICROSOFT-CDO-ALLDAYEVENT:FALSE
SUMMARY:Small Business Month Training Session - AI Prompting & Content Generation
DESCRIPTION:Be at your BEST with the DeKalb Chamber's next session of our Business Essential Skills Training Series - AI Prompting & Content Generation taught by Meta!\n\nJoin us for a hands-on morning session on AI tools and strategy for your organization. You'll explore today's AI landscape and learn how to use AI for: WritingResearchContent CreationTrainingAnalysis Automation& Planning No advanced skills required just basic experience using AI. What you'll learn: Evaluate major AI tools and choose the best option for any task Identify high-impact tasks that are well-suited for AI Apply structured prompting for clearer\, more accurate AI outputs Develop a practical AI action plan for your organizationTaught by Gibran Jones\, Meta Certified Lead Trainer. Gibran is a Meta Certified Lead trainer and a digital marketer with over 20 years of experience and a veteran of the US Army. He specializes in Facebook Ads\, SEO\, Instagram Reels\, and digital marketing and currently owns his own business Krimson Square Marketing. Gibran holds multiple industry-recognized certifications\, including Meta Digital Marketing Associate\, Meta Media Planning\, and Meta Lead Trainer. Gibran is a sought-after expert for industry podcasts and speaking events. He is also a speaker on Facebook marketing and social media marketing\, delivering training to small businesses on Reels\, content creation\, and Meta advertising. He is extremely knowledgeable and passionate about sharing his knowledge with businesses. Gibran is a passionate speaker and digital marketer who has helped thousands of businesses grow by improving their online presence.\n\n_______________________________________________________________________________The Business Essential Skills Training Series presented by Meta is designed to empower businesses and nonprofit organizations with the essential knowledge and tools needed to thrive in today's competitive landscape. Tailored for employers and employees who seek to elevate their operations\, this comprehensive training series equips participants with key skills\, tactics\, and strategies across vital areas such as finance\, marketing\, technology utilization\, time management\, networking\, and data-driven decision-making. Through expert-led sessions\, participants gain invaluable insights to optimize their business practices\, foster growth\, and ensure long-term success. With a focus on practicality and real-world application\, this program serves as a transformative resource\, guiding businesses towards sustainable growth and enhanced resilience in the ever-evolving marketplace. Be at your BEST with the DeKalb Chamber Business Essential Skills Training Series!
X-ALT-DESC;FMTTYPE=text/html:<!DOCTYPE html><html><head><title></title></head><body aria-disabled="false"><p>Be at your BEST with the DeKalb Chamber&#39\;s next session of our Business Essential Skills Training Series - AI Prompting &amp\; Content Generation taught by Meta!<br><br>Join us for a hands-on morning session on AI tools and strategy for your organization. You&rsquo\;ll explore today&rsquo\;s AI landscape and learn how to use AI for:&nbsp\;</p><ul fr-original-style="" style="list-style-position: inside\;"><li>Writing</li><li>Research</li><li>Content Creation</li><li>Training</li><li>Analysis Automation</li><li>&amp\; Planning&nbsp\;</li></ul><p>No advanced skills required&mdash\;just basic experience using AI.&nbsp\;</p><p>What you&rsquo\;ll learn:&nbsp\;</p><ul fr-original-style="" style="list-style-position: inside\;"><li>Evaluate major AI tools and choose the best option for any task Identify high-impact tasks that are well-suited for AI&nbsp\;</li><li>Apply structured prompting for clearer\, more accurate AI outputs&nbsp\;</li><li>Develop a practical AI action plan for your organization</li></ul><p>Taught by Gibran Jones\, Meta Certified Lead Trainer. Gibran is a Meta Certified Lead trainer and a digital marketer with over 20 years of experience and a veteran of the US Army. He specializes in Facebook Ads\, SEO\, Instagram Reels\, and digital marketing and currently owns his own business Krimson Square Marketing. Gibran holds multiple industry-recognized certifications\, including Meta Digital Marketing Associate\, Meta Media Planning\, and Meta Lead Trainer. Gibran is a sought-after expert for industry podcasts and speaking events. He is also a speaker on Facebook marketing and social media marketing\, delivering training to small businesses on Reels\, content creation\, and Meta advertising. He is extremely knowledgeable and passionate about sharing his knowledge with businesses. Gibran is a passionate speaker and digital marketer who has helped thousands of businesses grow by improving their online presence.<br><br></p><p><span style="font-size: 18px\;"><span style="font-family: Arial\,Helvetica\,sans-serif\;">_______________________________________________________________________________</span></span></p><p><span style="font-size: 18px\;"><span style="font-family: Arial\,Helvetica\,sans-serif\;">The <strong fr-original-style="" style="font-weight: 700\;">Business Essential Skills Training Series</strong> presented by <a fr-original-style="" href="https://members.dekalb.org/memberdirectory/Details/meta-2988843" rel="noopener noreferrer" style="user-select: auto\;" target="_blank">Meta</a> is designed to empower businesses and nonprofit organizations with the essential knowledge and tools needed to thrive in today&#39\;s competitive landscape. Tailored for employers and employees who seek to elevate their operations\, this comprehensive training series equips participants with key skills\, tactics\, and strategies across vital areas such as finance\, marketing\, technology utilization\, time management\, networking\, and data-driven decision-making. Through expert-led sessions\, participants gain invaluable insights to optimize their business practices\, foster growth\, and ensure long-term success. With a focus on practicality and real-world application\, this program serves as a transformative resource\, guiding businesses towards sustainable growth and enhanced resilience in the ever-evolving marketplace.&nbsp\;</span></span></p><p><span style="font-family: Arial\, Helvetica\, sans-serif\; font-size: 18px\;">Be at your <strong fr-original-style="" style="font-weight: 700\;">BEST</strong> with the DeKalb Chamber <strong fr-original-style="" style="font-weight: 700\;">B</strong>usiness <strong fr-original-style="" style="font-weight: 700\;">E</strong>ssential <strong fr-original-style="" style="font-weight: 700\;">S</strong>kills <strong fr-original-style="" style="font-weight: 700\;">T</strong>raining Series!</span></p></body></html>
LOCATION:1350 W. Prairie Dr. Sycamore IL 60178
UID:e.3588.1442358
SEQUENCE:3
DTSTAMP:20260422T163308Z
URL:https://members.dekalb.org/chambereventscalendar/Details/small-business-month-training-session-ai-prompting-content-generation-1708246?sourceTypeId=Hub
END:VEVENT
END:VCALENDAR
