BEGIN:VCALENDAR
VERSION:2.0
PRODID:-//ChamberMaster//Event Calendar 2.0//EN
METHOD:PUBLISH
X-PUBLISHED-TTL:P1H
REFRESH-INTERVAL:P1H
CALSCALE:GREGORIAN
BEGIN:VTIMEZONE
TZID:America/Chicago
BEGIN:DAYLIGHT
RRULE:FREQ=YEARLY;BYMONTH=3;BYDAY=2SU
DTSTART:20070101T000000
TZOFFSETFROM:-0600
TZOFFSETTO:-0500
TZNAME:Central Daylight Time
END:DAYLIGHT
BEGIN:STANDARD
RRULE:FREQ=YEARLY;BYMONTH=11;BYDAY=1SU
DTSTART:20070101T000000
TZOFFSETFROM:-0500
TZOFFSETTO:-0600
TZNAME:Central Standard Time
END:STANDARD
END:VTIMEZONE
BEGIN:VEVENT
DTSTART;TZID=America/Chicago:20260516T110000
DTEND;TZID=America/Chicago:20260516T120000
X-MICROSOFT-CDO-ALLDAYEVENT:FALSE
SUMMARY:Sound Healing: Rest & Renewal
DESCRIPTION:Noelle of Bare Soul Healing leads this free sound healing session designed to ease the nervous system and quiet the mind. Soothing vibrations from therapeutic instruments such as crystal singing bowls\, Koshi chimes\, drums and more create a peaceful space for grounding\, relaxation\, and renewal. A gentle & peaceful sound bath offered in honor of Mother's Day. An invitation to slow down\, soften\, be held & simply receive. Please bring a yoga mat or towel if you wish. A limited number of chairs will also be available. You may also wish to bring a small blanket\, as the temperature of the room can vary. Due to the nature of this event\, we will be closing the doors when the program begins at 11:00 a.m.\, so please arrive on time if you wish to be admitted. This event does not require registration. It is first come\, first served\, and is limited to ages 12 and up. Noelle is a healing practitioner in Sycamore and has a passion for sharing the benefits of sound healing with the public. Bare Soul Healing is a nature-rooted practice integrating sound healing\, yoga\, meditation\, astrology\, and other methods dedicated to supporting emotional well-being and inner peace.
X-ALT-DESC;FMTTYPE=text/html:<!DOCTYPE html><html><head><title></title></head><body aria-disabled="false"><p>Noelle of Bare Soul Healing leads this free sound healing session designed to ease the nervous system and quiet the mind. Soothing vibrations from therapeutic instruments such as crystal singing bowls\, Koshi chimes\, drums and more create a peaceful space for grounding\, relaxation\, and renewal.&nbsp\;</p><p>A gentle &amp\; peaceful sound bath offered in honor of Mother&#39\;s Day. An invitation to slow down\, soften\, be held &amp\; simply receive.&nbsp\;</p><p>Please bring a yoga mat or towel if you wish. A limited number of chairs will also be available. You may also wish to bring a small blanket\, as the temperature of the room can vary.&nbsp\;</p><p>Due to the nature of this event\, we will be closing the doors when the program begins at 11:00 a.m.\, so please arrive on time if you wish to be admitted.&nbsp\;</p><p>This event does not require registration. It is first come\, first served\, and is limited to ages 12 and up.&nbsp\;</p><p>Noelle is a healing practitioner in Sycamore and has a passion for sharing the benefits of sound healing with the public. Bare Soul Healing is a nature-rooted practice integrating sound healing\, yoga\, meditation\, astrology\, and other methods dedicated to supporting emotional well-being and inner peace.</p></body></html>
LOCATION:309 Oak Street DeKalb IL 60115
UID:e.3588.1439184
SEQUENCE:3
DTSTAMP:20260422T163145Z
URL:https://members.dekalb.org/chambereventscalendar/Details/sound-healing-rest-renewal-1703403?sourceTypeId=Hub
END:VEVENT
END:VCALENDAR
