BEGIN:VCALENDAR
VERSION:2.0
PRODID:-//ChamberMaster//Event Calendar 2.0//EN
METHOD:PUBLISH
X-PUBLISHED-TTL:P1H
REFRESH-INTERVAL:P1H
CALSCALE:GREGORIAN
BEGIN:VTIMEZONE
TZID:America/Chicago
BEGIN:DAYLIGHT
RRULE:FREQ=YEARLY;BYMONTH=3;BYDAY=2SU
DTSTART:20070101T000000
TZOFFSETFROM:-0600
TZOFFSETTO:-0500
TZNAME:Central Daylight Time
END:DAYLIGHT
BEGIN:STANDARD
RRULE:FREQ=YEARLY;BYMONTH=11;BYDAY=1SU
DTSTART:20070101T000000
TZOFFSETFROM:-0500
TZOFFSETTO:-0600
TZNAME:Central Standard Time
END:STANDARD
END:VTIMEZONE
BEGIN:VEVENT
DTSTART;TZID=America/Chicago:20260514T180000
DTEND;TZID=America/Chicago:20260514T190000
X-MICROSOFT-CDO-ALLDAYEVENT:FALSE
SUMMARY:The History of The Beach Boys
DESCRIPTION:The soundtrack for an American summer wouldn't be complete without The Beach Boys surf\, sun and California dreaming. This presentation will focus on The Beach Boys "sunniest" years from 1962-1967. With the use of performance and interview clips\, we'll trace the arc of the Beach Boys' early career from "Surfin' U.S.A".\, "Fun\, Fun\, Fun" and "California Girls" to the more mature Pet Sounds\, "Good Vibrations" and the abandoned Smile project. Surf's Up! After a rewarding career in advertising sales\, Gary Wenstrup retired and developed courses on the Beatles\, Simon & Garfunkel and Motown Records for the Continuing Education Departments of College of DuPage and Oakton Community College. He has lectured at over 80 Chicago area libraries. This event is part of the America 250 initiative\; celebrating our nation throughout the year. This event is free and open to all. No registration is required. This program is open to all ages\, but please note that the presentation may include discussion of mature subjects.
X-ALT-DESC;FMTTYPE=text/html:<!DOCTYPE html><html><head><title></title></head><body aria-disabled="false"><p>The soundtrack for an American summer wouldn&rsquo\;t be complete without The Beach Boys&hellip\;surf\, sun and California dreaming. This presentation will focus on The Beach Boys &ldquo\;sunniest&rdquo\; years from 1962-1967.&nbsp\;</p><p>With the use of performance and interview clips\, we&rsquo\;ll trace the arc of the Beach Boys&rsquo\; early career from &ldquo\;Surfin&rsquo\; U.S.A&rdquo\;.\, &ldquo\;Fun\, Fun\, Fun&rdquo\; and &ldquo\;California Girls&rdquo\; to the more mature Pet Sounds\, &ldquo\;Good Vibrations&rdquo\; and the abandoned Smile project. Surf&rsquo\;s Up!&nbsp\;</p><p>After a rewarding career in advertising sales\, Gary Wenstrup retired and developed courses on the Beatles\, Simon &amp\; Garfunkel and Motown Records for the Continuing Education Departments of College of DuPage and Oakton Community College. He has lectured at over 80 Chicago area libraries.&nbsp\;</p><p>This event is part of the America 250 initiative\; celebrating our nation throughout the year. This event is free and open to all. No registration is required.&nbsp\;</p><p>This program is open to all ages\, but please note that the presentation may include discussion of mature subjects.</p></body></html>
LOCATION:309 Oak Street DeKalb IL 60115
UID:e.3588.1439206
SEQUENCE:3
DTSTAMP:20260422T163633Z
URL:https://members.dekalb.org/chambereventscalendar/Details/the-history-of-the-beach-boys-1703575?sourceTypeId=Hub
END:VEVENT
END:VCALENDAR
