BEGIN:VCALENDAR
VERSION:2.0
PRODID:-//ChamberMaster//Event Calendar 2.0//EN
METHOD:PUBLISH
X-PUBLISHED-TTL:P1H
REFRESH-INTERVAL:P1H
CALSCALE:GREGORIAN
BEGIN:VTIMEZONE
TZID:America/Chicago
BEGIN:DAYLIGHT
RRULE:FREQ=YEARLY;BYMONTH=3;BYDAY=2SU
DTSTART:20070101T000000
TZOFFSETFROM:-0600
TZOFFSETTO:-0500
TZNAME:Central Daylight Time
END:DAYLIGHT
BEGIN:STANDARD
RRULE:FREQ=YEARLY;BYMONTH=11;BYDAY=1SU
DTSTART:20070101T000000
TZOFFSETFROM:-0500
TZOFFSETTO:-0600
TZNAME:Central Standard Time
END:STANDARD
END:VTIMEZONE
BEGIN:VEVENT
DTSTART;TZID=America/Chicago:20260509T140000
DTEND;TZID=America/Chicago:20260509T160000
X-MICROSOFT-CDO-ALLDAYEVENT:FALSE
SUMMARY:Turn of the Century Tea Party @ Ellwood House
DESCRIPTION:You and your little one are cordially invited to a charming\, turn-of-the-century tea party where imagination meets elegance! Take a delightful step back in time and enjoy a "proper" afternoon of tea\, treats\, and games with Dekalb Public Library at the historical Ellwood House Museum. We'll start by making fancy hats and accessories to complete our party attire before gathering for tea\, juice\, treats\, and etiquette games. Afterwards\, we shall retire to the courtyard lawn (weather permitting\; otherwise\, inside) for old-fashioned party games and end the party with a visit to Ellwood Dollhouse. We encourage patrons to "play dress up" for the occasion! Teatime starts promptly at 2:00 p.m. and families will be seated first come\, first served. Please arrive early for seating. No registration is required. This program is intended for families with children ages 6-11. Younger children may need additional assistance with crafts and activities.
X-ALT-DESC;FMTTYPE=text/html:<!DOCTYPE html><html><head><title></title></head><body aria-disabled="false"><p>You and your little one are cordially invited to a charming\, turn-of-the-century tea party where imagination meets elegance! Take a delightful step back in time and enjoy a &ldquo\;proper&rdquo\; afternoon of tea\, treats\, and games with Dekalb Public Library at the historical Ellwood House Museum. We&rsquo\;ll start by making fancy hats and accessories to complete our party attire before gathering for tea\, juice\, treats\, and etiquette games. Afterwards\, we shall retire to the courtyard lawn (weather permitting\; otherwise\, inside) for old-fashioned party games and end the party with a visit to Ellwood Dollhouse.&nbsp\;</p><p>We encourage patrons to &ldquo\;play dress up&rdquo\; for the occasion! Teatime starts promptly at 2:00 p.m. and families will be seated first come\, first served. Please arrive early for seating. No registration is required.&nbsp\;</p><p>This program is intended for families with children ages 6-11. Younger children may need additional assistance with crafts and activities.</p></body></html>
LOCATION:420 Linden Pl. DeKalb IL 60115
UID:e.3588.1439044
SEQUENCE:3
DTSTAMP:20260422T163900Z
URL:https://members.dekalb.org/chambereventscalendar/Details/turn-of-the-century-tea-party-ellwood-house-1703264?sourceTypeId=Hub
END:VEVENT
END:VCALENDAR
